BEGIN:VCALENDAR
VERSION:2.0
PRODID:-//www.ketchikanarts.org//NONSGML kigkonsult.se iCalcreator 2.30.10/
 /
CALSCALE:GREGORIAN
METHOD:PUBLISH
UID:b0542ee8-4371-439f-966d-843793778a8e
X-WR-CALDESC:We will return to the office Tuesday\, February 16th.
X-WR-RELCALID:37e05573cb0869dfef3d5c8dde547794
X-WR-TIMEZONE:America/Anchorage
BEGIN:VTIMEZONE
TZID:America/Anchorage
BEGIN:STANDARD
TZNAME:AKST
DTSTART:20201101T020000
TZOFFSETFROM:-0800
TZOFFSETTO:-0900
RDATE:20211107T020000
END:STANDARD
BEGIN:DAYLIGHT
TZNAME:AKDT
DTSTART:20200308T020000
TZOFFSETFROM:-0900
TZOFFSETTO:-0800
RDATE:20210314T020000
RDATE:20220313T020000
END:DAYLIGHT
END:VTIMEZONE
BEGIN:VEVENT
UID:e8db9fb2-14ec-4ddf-b519-cfeff4e090a4
DTSTAMP:20260421T091940Z
DESCRIPTION:We will return to the office Tuesday\, February 16th.
DTSTART;TZID=America/Anchorage:20210215T000000
DTEND;TZID=America/Anchorage:20210215T235900
LOCATION:
SUMMARY:KAAHC Offices Closed for Presidents Day
END:VEVENT
END:VCALENDAR
