BEGIN:VCALENDAR
VERSION:2.0
PRODID:-//www.ketchikanarts.org//NONSGML kigkonsult.se iCalcreator 2.30.10/
 /
CALSCALE:GREGORIAN
METHOD:PUBLISH
UID:4a4fb543-341d-4ee9-bf91-d36e0d386e13
X-WR-CALDESC:An 80's cover rock band\, trivia\, and prizes! They really kno
 w how to entertain! Local\, Live Music\, Live STream from the WFH Studio!
X-WR-RELCALID:c37ef7b5c62fd27476e379e32ea225bb
X-WR-TIMEZONE:America/Anchorage
BEGIN:VTIMEZONE
TZID:America/Anchorage
BEGIN:STANDARD
TZNAME:AKST
DTSTART:20201101T020000
TZOFFSETFROM:-0800
TZOFFSETTO:-0900
RDATE:20211107T020000
END:STANDARD
BEGIN:DAYLIGHT
TZNAME:AKDT
DTSTART:20200308T020000
TZOFFSETFROM:-0900
TZOFFSETTO:-0800
RDATE:20210314T020000
RDATE:20220313T020000
END:DAYLIGHT
END:VTIMEZONE
BEGIN:VEVENT
UID:34ee9c32-6f6f-4d3f-9c5a-912a3f6ea065
DTSTAMP:20260421T091812Z
DESCRIPTION:An 80's cover rock band\, trivia\, and prizes! They really know
  how to entertain! Local\, Live Music\, Live STream from the WFH Studio!
DTSTART;TZID=America/Anchorage:20210213T200000
DTEND;TZID=America/Anchorage:20210213T220000
LOCATION:https://www.facebook.com/woodysfinesthour
SUMMARY:Woody's Finest Hour Valentines Live Stream
END:VEVENT
END:VCALENDAR
