BEGIN:VCALENDAR
VERSION:2.0
PRODID:-//www.ketchikanarts.org//NONSGML kigkonsult.se iCalcreator 2.30.10/
 /
CALSCALE:GREGORIAN
METHOD:PUBLISH
UID:42ce6ab9-cdd0-44ba-b66d-099a09571a20
X-WR-CALDESC:Join artists Danelle Kelly in a guided painting class Valentin
 e Themed\n$35 per person
X-WR-RELCALID:6155aead7d9bf388dc9590a2943d7929
X-WR-TIMEZONE:America/Anchorage
BEGIN:VTIMEZONE
TZID:America/Anchorage
BEGIN:STANDARD
TZNAME:AKST
DTSTART:20201101T020000
TZOFFSETFROM:-0800
TZOFFSETTO:-0900
RDATE:20211107T020000
END:STANDARD
BEGIN:DAYLIGHT
TZNAME:AKDT
DTSTART:20200308T020000
TZOFFSETFROM:-0900
TZOFFSETTO:-0800
RDATE:20210314T020000
RDATE:20220313T020000
END:DAYLIGHT
END:VTIMEZONE
BEGIN:VEVENT
UID:771ec048-f80c-4e5b-9639-cd58daafed8d
DTSTAMP:20260421T091645Z
DESCRIPTION:Join artists Danelle Kelly in a guided painting class Valentine
  Themed\n$35 per person
DTSTART;TZID=America/Anchorage:20210213T170000
DTEND;TZID=America/Anchorage:20210213T190000
LOCATION:2719 Tongass Ave Suite 206\, Ketchikan \, AK 99901 US
SUMMARY:Valentines Themed Painting w/ Danelle Kelly
END:VEVENT
END:VCALENDAR
