BEGIN:VCALENDAR
VERSION:2.0
PRODID:-//www.ketchikanarts.org//NONSGML kigkonsult.se iCalcreator 2.30.10/
 /
CALSCALE:GREGORIAN
METHOD:PUBLISH
UID:b8dcad1f-3aa6-4d58-ac9b-dfb5c9589ec8
X-WR-CALDESC:Mary Poppins Jr. (In-Person & Online)\nKayhi Theater Club has 
 canceled the performance of Mary PoppinsJr until further notice. Performan
 ces will have in-person and live-streamed versions.\nTickets available at 
 First City Players for more information please call 225-4792\n7:00 - 9:00 
 pm Kayhi Auditorium
X-WR-RELCALID:4b0dac62d71fbe0fbb19973a97e6e867
X-WR-TIMEZONE:America/Anchorage
BEGIN:VTIMEZONE
TZID:America/Anchorage
BEGIN:STANDARD
TZNAME:AKST
DTSTART:20201101T020000
TZOFFSETFROM:-0800
TZOFFSETTO:-0900
RDATE:20211107T020000
END:STANDARD
BEGIN:DAYLIGHT
TZNAME:AKDT
DTSTART:20200308T020000
TZOFFSETFROM:-0900
TZOFFSETTO:-0800
RDATE:20210314T020000
RDATE:20220313T020000
END:DAYLIGHT
END:VTIMEZONE
BEGIN:VEVENT
UID:909e018b-f28c-421b-8a8f-798bcfe19ba9
DTSTAMP:20260421T092107Z
DESCRIPTION:Mary Poppins Jr. (In-Person & Online)\nKayhi Theater Club has c
 anceled the performance of Mary PoppinsJr until further notice. Performanc
 es will have in-person and live-streamed versions.\nTickets available at F
 irst City Players for more information please call 225-4792\n7:00 - 9:00 p
 m Kayhi Auditorium
DTSTART;TZID=America/Anchorage:20210206T190000
DTEND;TZID=America/Anchorage:20210206T210000
LOCATION:
SUMMARY:Kayhi Theatre Club Performing Mary Poppins
END:VEVENT
END:VCALENDAR
