BEGIN:VCALENDAR
VERSION:2.0
PRODID:-//www.ketchikanarts.org//NONSGML kigkonsult.se iCalcreator 2.30.10/
 /
CALSCALE:GREGORIAN
METHOD:PUBLISH
UID:0134aa94-55e9-403a-a88b-8df905b1a061
X-WR-CALDESC:Dave Rubin\, Hannah Karrick\, and Chazz Gist perform for the c
 ustomers at Cape Fox Lodge. Enjoy live music while dining.
X-WR-RELCALID:2f5695fc15f16799f8f279d3735b48d8
X-WR-TIMEZONE:America/Anchorage
BEGIN:VTIMEZONE
TZID:America/Anchorage
BEGIN:STANDARD
TZNAME:AKST
DTSTART:20201101T020000
TZOFFSETFROM:-0800
TZOFFSETTO:-0900
RDATE:20211107T020000
END:STANDARD
BEGIN:DAYLIGHT
TZNAME:AKDT
DTSTART:20200308T020000
TZOFFSETFROM:-0900
TZOFFSETTO:-0800
RDATE:20210314T020000
RDATE:20220313T020000
END:DAYLIGHT
END:VTIMEZONE
BEGIN:VEVENT
UID:e9030606-1df3-4c30-ab84-3f552327389a
DTSTAMP:20260421T090408Z
DESCRIPTION:Dave Rubin\, Hannah Karrick\, and Chazz Gist perform for the cu
 stomers at Cape Fox Lodge. Enjoy live music while dining.
DTSTART;TZID=America/Anchorage:20210204T170000
DTEND;TZID=America/Anchorage:20210204T210000
LOCATION:
SUMMARY:Cape Fox Players
END:VEVENT
END:VCALENDAR
