BEGIN:VCALENDAR
VERSION:2.0
PRODID:-//www.ketchikanarts.org//NONSGML kigkonsult.se iCalcreator 2.30.10/
 /
CALSCALE:GREGORIAN
METHOD:PUBLISH
UID:ecc4a009-2160-43c9-805d-ca6dbefa9fae
X-WR-CALDESC:Dave Rubin\, Hannah Karrick\, and Chazz Gist perform for the c
 ustomers at Cape Fox Lodge. Enjoy live music while dining.
X-WR-RELCALID:8910309fa5765529fef0f4033440a7ce
X-WR-TIMEZONE:America/Anchorage
BEGIN:VTIMEZONE
TZID:America/Anchorage
BEGIN:STANDARD
TZNAME:AKST
DTSTART:20201101T020000
TZOFFSETFROM:-0800
TZOFFSETTO:-0900
RDATE:20211107T020000
END:STANDARD
BEGIN:DAYLIGHT
TZNAME:AKDT
DTSTART:20200308T020000
TZOFFSETFROM:-0900
TZOFFSETTO:-0800
RDATE:20210314T020000
RDATE:20220313T020000
END:DAYLIGHT
END:VTIMEZONE
BEGIN:VEVENT
UID:e7cf11fe-ece9-4ffd-af89-8007498301ab
DTSTAMP:20260421T102915Z
DESCRIPTION:Dave Rubin\, Hannah Karrick\, and Chazz Gist perform for the cu
 stomers at Cape Fox Lodge. Enjoy live music while dining.
DTSTART;TZID=America/Anchorage:20210128T170000
DTEND;TZID=America/Anchorage:20210128T210000
LOCATION:
SUMMARY:Cape Fox Players
END:VEVENT
END:VCALENDAR
