BEGIN:VCALENDAR
VERSION:2.0
PRODID:-//www.ketchikanarts.org//NONSGML kigkonsult.se iCalcreator 2.30.10/
 /
CALSCALE:GREGORIAN
METHOD:PUBLISH
UID:1316181b-fe7f-48c9-8893-93ace218cb41
X-WR-CALDESC:Live Music at the Creek Street Cabaret
X-WR-RELCALID:1142be8b2839a529d7acb89a79efad32
X-WR-TIMEZONE:America/Anchorage
BEGIN:VTIMEZONE
TZID:America/Anchorage
BEGIN:STANDARD
TZNAME:AKST
DTSTART:20201101T020000
TZOFFSETFROM:-0800
TZOFFSETTO:-0900
RDATE:20211107T020000
END:STANDARD
BEGIN:DAYLIGHT
TZNAME:AKDT
DTSTART:20200308T020000
TZOFFSETFROM:-0900
TZOFFSETTO:-0800
RDATE:20210314T020000
RDATE:20220313T020000
END:DAYLIGHT
END:VTIMEZONE
BEGIN:VEVENT
UID:97d2329e-cbc5-4cc9-879f-5c6fe1a50512
DTSTAMP:20260421T102811Z
DESCRIPTION:Live Music at the Creek Street Cabaret
DTSTART;TZID=America/Anchorage:20210123T180000
DTEND;TZID=America/Anchorage:20210123T200000
LOCATION:
SUMMARY:Compass Roses
END:VEVENT
END:VCALENDAR
