BEGIN:VCALENDAR
VERSION:2.0
PRODID:-//www.ketchikanarts.org//NONSGML kigkonsult.se iCalcreator 2.30.10/
 /
CALSCALE:GREGORIAN
METHOD:PUBLISH
UID:b5e5442a-efcf-42f6-9a9b-ac37e225c8ae
X-WR-CALDESC:Dave Rubin\, Hannah Karrick\, and Chazz Gist perform for the c
 ustomers at Cape Fox Lodge. Enjoy live music while dining.
X-WR-RELCALID:172aa0c89f34a8ed86594498b867c974
X-WR-TIMEZONE:America/Anchorage
BEGIN:VTIMEZONE
TZID:America/Anchorage
BEGIN:STANDARD
TZNAME:AKST
DTSTART:20201101T020000
TZOFFSETFROM:-0800
TZOFFSETTO:-0900
RDATE:20211107T020000
END:STANDARD
BEGIN:DAYLIGHT
TZNAME:AKDT
DTSTART:20200308T020000
TZOFFSETFROM:-0900
TZOFFSETTO:-0800
RDATE:20210314T020000
RDATE:20220313T020000
END:DAYLIGHT
END:VTIMEZONE
BEGIN:VEVENT
UID:528fdfbc-7d72-432f-acb6-43d46cb9fc34
DTSTAMP:20260421T102835Z
DESCRIPTION:Dave Rubin\, Hannah Karrick\, and Chazz Gist perform for the cu
 stomers at Cape Fox Lodge. Enjoy live music while dining.
DTSTART;TZID=America/Anchorage:20210121T170000
DTEND;TZID=America/Anchorage:20210121T210000
LOCATION:
SUMMARY:Cape Fox Players
END:VEVENT
END:VCALENDAR
