BEGIN:VCALENDAR
VERSION:2.0
PRODID:-//www.ketchikanarts.org//NONSGML kigkonsult.se iCalcreator 2.30.10/
 /
CALSCALE:GREGORIAN
METHOD:PUBLISH
UID:7f217e47-9d68-4ac5-ad12-7e7d6c0a07a6
X-WR-CALDESC:Enjoy a variety of open mic performances\, or perform yourself
 \n$5 Cover at the door. Must be 21 and over or accompanied by a legal guar
 dian.
X-WR-RELCALID:a9e5f502db0031094c7a198220b66579
X-WR-TIMEZONE:America/Anchorage
BEGIN:VTIMEZONE
TZID:America/Anchorage
BEGIN:STANDARD
TZNAME:AKST
DTSTART:20201101T020000
TZOFFSETFROM:-0800
TZOFFSETTO:-0900
RDATE:20211107T020000
END:STANDARD
BEGIN:DAYLIGHT
TZNAME:AKDT
DTSTART:20200308T020000
TZOFFSETFROM:-0900
TZOFFSETTO:-0800
RDATE:20210314T020000
RDATE:20220313T020000
END:DAYLIGHT
END:VTIMEZONE
BEGIN:VEVENT
UID:8d4eeb5b-77a1-4c3f-816e-a44b684c8f61
DTSTAMP:20260421T103113Z
DESCRIPTION:Enjoy a variety of open mic performances\, or perform yourself
 \n$5 Cover at the door. Must be 21 and over or accompanied by a legal guar
 dian.
DTSTART;TZID=America/Anchorage:20210110T060000
DTEND;TZID=America/Anchorage:20210110T210000
LOCATION:Creek Street Cabaret
SUMMARY:Open Mic Night With Joe Williams Jr.
END:VEVENT
END:VCALENDAR
