BEGIN:VCALENDAR
VERSION:2.0
PRODID:-//www.ketchikanarts.org//NONSGML kigkonsult.se iCalcreator 2.30.10/
 /
CALSCALE:GREGORIAN
METHOD:PUBLISH
UID:feb4f08e-6a57-480a-ae9d-7f1e7d63bd05
X-WR-CALDESC:In-Person - Walk-ins welcome. Saturdays 5:00 - 6:00 pm with in
 structor Coatlique Toledo at the Rec Center
X-WR-RELCALID:56a82623a0e79931d01ba25924b78898
X-WR-TIMEZONE:America/Anchorage
BEGIN:VTIMEZONE
TZID:America/Anchorage
BEGIN:STANDARD
TZNAME:AKST
DTSTART:20201101T020000
TZOFFSETFROM:-0800
TZOFFSETTO:-0900
RDATE:20211107T020000
END:STANDARD
BEGIN:DAYLIGHT
TZNAME:AKDT
DTSTART:20200308T020000
TZOFFSETFROM:-0900
TZOFFSETTO:-0800
RDATE:20210314T020000
RDATE:20220313T020000
END:DAYLIGHT
END:VTIMEZONE
BEGIN:VEVENT
UID:c9c203f3-4699-4a9d-8a05-f159fd15620f
DTSTAMP:20260421T103333Z
DESCRIPTION:In-Person - Walk-ins welcome. Saturdays 5:00 - 6:00 pm with ins
 tructor Coatlique Toledo at the Rec Center
DTSTART;TZID=America/Anchorage:20210109T180000
DTEND;TZID=America/Anchorage:20210109T190000
LOCATION:Ketchikan Recreation Center
SUMMARY:Bachata Dance Classes at the Rec Center
END:VEVENT
END:VCALENDAR
