BEGIN:VCALENDAR
VERSION:2.0
PRODID:-//www.ketchikanarts.org//NONSGML kigkonsult.se iCalcreator 2.30.10/
 /
CALSCALE:GREGORIAN
METHOD:PUBLISH
UID:50f6559b-a957-4ccb-ae75-46a63c490b53
X-WR-CALDESC:In-Person - Walk-ins welcome. Saturdays 5:00 - 6:00 pm with in
 structor Coatlique Toledo at the Rec Center
X-WR-RELCALID:778ddfb47be8d53fee4e980ab3ba62ad
X-WR-TIMEZONE:America/Anchorage
BEGIN:VTIMEZONE
TZID:America/Anchorage
BEGIN:STANDARD
TZNAME:AKST
DTSTART:20201101T020000
TZOFFSETFROM:-0800
TZOFFSETTO:-0900
RDATE:20211107T020000
END:STANDARD
BEGIN:DAYLIGHT
TZNAME:AKDT
DTSTART:20200308T020000
TZOFFSETFROM:-0900
TZOFFSETTO:-0800
RDATE:20210314T020000
RDATE:20220313T020000
END:DAYLIGHT
END:VTIMEZONE
BEGIN:VEVENT
UID:de52059d-fde9-4468-852d-667d68c4e270
DTSTAMP:20260421T103340Z
DESCRIPTION:In-Person - Walk-ins welcome. Saturdays 5:00 - 6:00 pm with ins
 tructor Coatlique Toledo at the Rec Center
DTSTART;TZID=America/Anchorage:20210109T170000
DTEND;TZID=America/Anchorage:20210109T180000
LOCATION:Ketchikan Recreation Center
SUMMARY:Dance Classes at the Rec Center
END:VEVENT
END:VCALENDAR
