BEGIN:VCALENDAR
VERSION:2.0
PRODID:-//www.ketchikanarts.org//NONSGML kigkonsult.se iCalcreator 2.30.10/
 /
CALSCALE:GREGORIAN
METHOD:PUBLISH
UID:d37c736d-cab4-4707-b10c-267f07296581
X-WR-CALDESC:In her first solo exhibit Cameo Mc Roberts reimagines archaic 
 ideals in her collages\, challenging the original context by creating a ne
 w perspective.
X-WR-RELCALID:216f42ecc7bca18bb98e155dc4a9fd95
X-WR-TIMEZONE:America/Anchorage
BEGIN:VTIMEZONE
TZID:America/Anchorage
BEGIN:STANDARD
TZNAME:AKST
DTSTART:20201101T020000
TZOFFSETFROM:-0800
TZOFFSETTO:-0900
RDATE:20211107T020000
END:STANDARD
BEGIN:DAYLIGHT
TZNAME:AKDT
DTSTART:20200308T020000
TZOFFSETFROM:-0900
TZOFFSETTO:-0800
RDATE:20210314T020000
RDATE:20220313T020000
END:DAYLIGHT
END:VTIMEZONE
BEGIN:VEVENT
UID:1b4c2d78-a55a-4757-b6d3-015cb46cff46
DTSTAMP:20260421T103641Z
DESCRIPTION:In her first solo exhibit Cameo Mc Roberts reimagines archaic i
 deals in her collages\, challenging the original context by creating a new
  perspective.
DTSTART;TZID=America/Anchorage:20210108T170000
DTEND;TZID=America/Anchorage:20210108T190000
LOCATION:
SUMMARY:'Taken Out of Context' a solo exhibit by Cameo McRoberts
END:VEVENT
END:VCALENDAR
