BEGIN:VCALENDAR
VERSION:2.0
PRODID:-//www.ketchikanarts.org//NONSGML kigkonsult.se iCalcreator 2.30.10/
 /
CALSCALE:GREGORIAN
METHOD:PUBLISH
UID:f3b7360b-4fca-4367-b211-14e2dc2de06c
X-WR-CALDESC:Self-described paleo nerds Ray Troll and David Strassman discu
 ss paleontology with experts around the nation in their podcast. New podca
 sts every Wednesday!
X-WR-RELCALID:9259e78b4ec1ef3495dd90ce498069f1
X-WR-TIMEZONE:America/Anchorage
BEGIN:VTIMEZONE
TZID:America/Anchorage
BEGIN:STANDARD
TZNAME:AKST
DTSTART:20201101T020000
TZOFFSETFROM:-0800
TZOFFSETTO:-0900
RDATE:20211107T020000
END:STANDARD
BEGIN:DAYLIGHT
TZNAME:AKDT
DTSTART:20200308T020000
TZOFFSETFROM:-0900
TZOFFSETTO:-0800
RDATE:20210314T020000
RDATE:20220313T020000
END:DAYLIGHT
END:VTIMEZONE
BEGIN:VEVENT
UID:6b141a96-fddf-4195-a26b-a8b44fe92f66
DTSTAMP:20260421T103113Z
DESCRIPTION:Self-described paleo nerds Ray Troll and David Strassman discus
 s paleontology with experts around the nation in their podcast. New podcas
 ts every Wednesday!
DTSTART;TZID=America/Anchorage:20210106T120000
DTEND;TZID=America/Anchorage:20210106T130000
LOCATION:An online podcast!
SUMMARY:Paleo Nerds
END:VEVENT
END:VCALENDAR
