BEGIN:VCALENDAR
VERSION:2.0
PRODID:-//www.ketchikanarts.org//NONSGML kigkonsult.se iCalcreator 2.30.10/
 /
CALSCALE:GREGORIAN
METHOD:PUBLISH
UID:d5aa5093-34c6-44b8-b321-45457895fcc9
X-WR-CALDESC:In-Person - Walk-ins welcome. Saturdays 5:00 - 6:00 pm with in
 structor Coatlique Toledo at the Rec Center
X-WR-RELCALID:797a5f7ec3068ab9953189e2ceda1467
X-WR-TIMEZONE:America/Anchorage
BEGIN:VTIMEZONE
TZID:America/Anchorage
BEGIN:STANDARD
TZNAME:AKST
DTSTART:20201101T020000
TZOFFSETFROM:-0800
TZOFFSETTO:-0900
RDATE:20211107T020000
END:STANDARD
BEGIN:DAYLIGHT
TZNAME:AKDT
DTSTART:20200308T020000
TZOFFSETFROM:-0900
TZOFFSETTO:-0800
RDATE:20210314T020000
RDATE:20220313T020000
END:DAYLIGHT
END:VTIMEZONE
BEGIN:VEVENT
UID:54c58f3b-cc79-43c8-960b-b9e08ff5862f
DTSTAMP:20260421T120919Z
DESCRIPTION:In-Person - Walk-ins welcome. Saturdays 5:00 - 6:00 pm with ins
 tructor Coatlique Toledo at the Rec Center
DTSTART;TZID=America/Anchorage:20201226T180000
DTEND;TZID=America/Anchorage:20201226T190000
LOCATION:Ketchikan Recreation Center
SUMMARY:Bachata Dance Classes at the Rec Center
END:VEVENT
END:VCALENDAR
