BEGIN:VCALENDAR
VERSION:2.0
PRODID:-//www.ketchikanarts.org//NONSGML kigkonsult.se iCalcreator 2.30.10/
 /
CALSCALE:GREGORIAN
METHOD:PUBLISH
UID:b5e7d7df-2edc-4052-a67c-e84c709df590
X-WR-CALDESC:In-Person - Walk-ins welcome. Saturdays 5:00 - 6:00 pm with in
 structor Coatlique Toledo at the Rec Center
X-WR-RELCALID:7eb5e7323ba590d15bda1b700320f76a
X-WR-TIMEZONE:America/Anchorage
BEGIN:VTIMEZONE
TZID:America/Anchorage
BEGIN:STANDARD
TZNAME:AKST
DTSTART:20201101T020000
TZOFFSETFROM:-0800
TZOFFSETTO:-0900
RDATE:20211107T020000
END:STANDARD
BEGIN:DAYLIGHT
TZNAME:AKDT
DTSTART:20200308T020000
TZOFFSETFROM:-0900
TZOFFSETTO:-0800
RDATE:20210314T020000
RDATE:20220313T020000
END:DAYLIGHT
END:VTIMEZONE
BEGIN:VEVENT
UID:4f25c6fc-065c-46ca-85b2-eb7adfc3df9b
DTSTAMP:20260421T120053Z
DESCRIPTION:In-Person - Walk-ins welcome. Saturdays 5:00 - 6:00 pm with ins
 tructor Coatlique Toledo at the Rec Center
DTSTART;TZID=America/Anchorage:20201226T170000
DTEND;TZID=America/Anchorage:20201226T180000
LOCATION:Ketchikan Recreation Center
SUMMARY:Dance Classes at the Rec Center
END:VEVENT
END:VCALENDAR
