BEGIN:VCALENDAR
VERSION:2.0
PRODID:-//www.ketchikanarts.org//NONSGML kigkonsult.se iCalcreator 2.30.10/
 /
CALSCALE:GREGORIAN
METHOD:PUBLISH
UID:13dc6b9c-0988-4f2f-aef2-96ad777c2420
X-WR-CALDESC:Krystal Jewel Thomas teaches acrylic painting techniques
X-WR-RELCALID:392381102a4889444d1da939bad64545
X-WR-TIMEZONE:America/Anchorage
BEGIN:VTIMEZONE
TZID:America/Anchorage
BEGIN:STANDARD
TZNAME:AKST
DTSTART:20201101T020000
TZOFFSETFROM:-0800
TZOFFSETTO:-0900
RDATE:20211107T020000
END:STANDARD
BEGIN:DAYLIGHT
TZNAME:AKDT
DTSTART:20200308T020000
TZOFFSETFROM:-0900
TZOFFSETTO:-0800
RDATE:20210314T020000
RDATE:20220313T020000
END:DAYLIGHT
END:VTIMEZONE
BEGIN:VEVENT
UID:d2949505-8f3a-4884-9fa1-b741fee4b7f1
DTSTAMP:20260421T121347Z
DESCRIPTION:Krystal Jewel Thomas teaches acrylic painting techniques
DTSTART;TZID=America/Anchorage:20201218T173000
DTEND;TZID=America/Anchorage:20201218T193000
LOCATION:Vibrance a Creative Space
SUMMARY:Trees in Snow Painting Class
END:VEVENT
END:VCALENDAR
