BEGIN:VCALENDAR
VERSION:2.0
PRODID:-//www.ketchikanarts.org//NONSGML kigkonsult.se iCalcreator 2.30.10/
 /
CALSCALE:GREGORIAN
METHOD:PUBLISH
UID:024b3a01-b639-4117-8ffb-9441f9b8f234
X-WR-CALDESC:Arts U will have a session on Payroll Protection Program (PPP)
  forgiveness options\, and the income tax implications on receiving CARES 
 Act grants\, loans\, or unemployment compensation. This webinar will inclu
 de guidance and a  Q & A with presenters Nina Ozlu Tunceli\, Chief Counsel
  of Government and Public Affairs & Executive Director\, Americans for the
  Arts Action Fund\, and Sarah Mercer\, Shareholder Attorney\, Brownstein H
 yatt Farber Schreck\, LLP
X-WR-RELCALID:10e459bed98e8aa244ae28a427b3ec13
X-WR-TIMEZONE:America/Anchorage
BEGIN:VTIMEZONE
TZID:America/Anchorage
BEGIN:STANDARD
TZNAME:AKST
DTSTART:20201101T020000
TZOFFSETFROM:-0800
TZOFFSETTO:-0900
RDATE:20211107T020000
END:STANDARD
BEGIN:DAYLIGHT
TZNAME:AKDT
DTSTART:20200308T020000
TZOFFSETFROM:-0900
TZOFFSETTO:-0800
RDATE:20210314T020000
RDATE:20220313T020000
END:DAYLIGHT
END:VTIMEZONE
BEGIN:VEVENT
UID:fd3c2221-61c7-4fec-b9b4-ec87fc4dfddc
DTSTAMP:20260421T121219Z
DESCRIPTION:Arts U will have a session on Payroll Protection Program (PPP) 
 forgiveness options\, and the income tax implications on receiving CARES A
 ct grants\, loans\, or unemployment compensation. This webinar will includ
 e guidance and a  Q & A with presenters Nina Ozlu Tunceli\, Chief Counsel 
 of Government and Public Affairs & Executive Director\, Americans for the 
 Arts Action Fund\, and Sarah Mercer\, Shareholder Attorney\, Brownstein Hy
 att Farber Schreck\, LLP
DTSTART;TZID=America/Anchorage:20201218T093000
DTEND;TZID=America/Anchorage:20201218T103000
LOCATION:https://artsu.americansforthearts.org/products/ppp-forgiveness-opt
 ions-and-income-tax-implications-on-receiving-cares-act-grants-loans-or-un
 employment-compensation
SUMMARY:Cares Act Tax information Webnar
END:VEVENT
END:VCALENDAR
