BEGIN:VCALENDAR
VERSION:2.0
PRODID:-//www.ketchikanarts.org//NONSGML kigkonsult.se iCalcreator 2.30.10/
 /
CALSCALE:GREGORIAN
METHOD:PUBLISH
UID:7456e5a6-cb7f-41c7-83ec-48d6731b6b32
X-WR-CALDESC:A  one-hour Zoom Meeting discussing the pros and cons of a Sol
 e Proprietorship and Limited Liability Corporations with Small Business Sp
 ecialist Grant Echohawk. Q &A available throughout the presentation. In-pe
 rson available upon request. Please call the Arts Council to register and 
 receive your free zoom link. Requirements for the class\, a working e-mail
  and an image of your art work to Help Grant personalize the class!!
X-WR-RELCALID:e3c3204ae13d47e9ded4792b57a8c8fa
X-WR-TIMEZONE:America/Anchorage
BEGIN:VTIMEZONE
TZID:America/Anchorage
BEGIN:STANDARD
TZNAME:AKST
DTSTART:20201101T020000
TZOFFSETFROM:-0800
TZOFFSETTO:-0900
RDATE:20211107T020000
END:STANDARD
BEGIN:DAYLIGHT
TZNAME:AKDT
DTSTART:20200308T020000
TZOFFSETFROM:-0900
TZOFFSETTO:-0800
RDATE:20210314T020000
RDATE:20220313T020000
END:DAYLIGHT
END:VTIMEZONE
BEGIN:VEVENT
UID:3674a2b7-6047-4a5e-8cd9-ccae452556f1
DTSTAMP:20260421T114738Z
DESCRIPTION:A  one-hour Zoom Meeting discussing the pros and cons of a Sole
  Proprietorship and Limited Liability Corporations with Small Business Spe
 cialist Grant Echohawk. Q &A available throughout the presentation. In-per
 son available upon request. Please call the Arts Council to register and r
 eceive your free zoom link. Requirements for the class\, a working e-mail 
 and an image of your art work to Help Grant personalize the class!!
DTSTART;TZID=America/Anchorage:20201218T173000
DTEND;TZID=America/Anchorage:20201218T183000
LOCATION:Zoom link will be provided at registration!
SUMMARY:Business Structure with Grant Echohawk
END:VEVENT
END:VCALENDAR
