BEGIN:VCALENDAR
VERSION:2.0
PRODID:-//www.ketchikanarts.org//NONSGML kigkonsult.se iCalcreator 2.30.10/
 /
CALSCALE:GREGORIAN
METHOD:PUBLISH
UID:ff27c588-f60a-4dff-af62-59ef64281ff8
X-WR-CALDESC:The Choir Concert will be live-streamed for your enjoyment. Wa
 tch Trina Purcell direct the Kayhi Choir as they perform their winter conc
 ert! from the Winter Arts BLITZ!
X-WR-RELCALID:763ce1e27d0497985469ef99a2fb94e8
X-WR-TIMEZONE:America/Anchorage
BEGIN:VTIMEZONE
TZID:America/Anchorage
BEGIN:STANDARD
TZNAME:AKST
DTSTART:20201101T020000
TZOFFSETFROM:-0800
TZOFFSETTO:-0900
RDATE:20211107T020000
END:STANDARD
BEGIN:DAYLIGHT
TZNAME:AKDT
DTSTART:20200308T020000
TZOFFSETFROM:-0900
TZOFFSETTO:-0800
RDATE:20210314T020000
RDATE:20220313T020000
END:DAYLIGHT
END:VTIMEZONE
BEGIN:VEVENT
UID:7e8eddb7-ad35-4d90-8faf-41b6596059fe
DTSTAMP:20260421T121057Z
DESCRIPTION:The Choir Concert will be live-streamed for your enjoyment. Wat
 ch Trina Purcell direct the Kayhi Choir as they perform their winter conce
 rt! from the Winter Arts BLITZ!
DTSTART;TZID=America/Anchorage:20201216T190000
DTEND;TZID=America/Anchorage:20201216T203000
LOCATION:https://www.ketchikanarts.org/
SUMMARY:Kayhi Choir Concert
END:VEVENT
END:VCALENDAR
