BEGIN:VCALENDAR
VERSION:2.0
PRODID:-//www.ketchikanarts.org//NONSGML kigkonsult.se iCalcreator 2.30.10/
 /
CALSCALE:GREGORIAN
METHOD:PUBLISH
UID:48236048-ce0c-45d0-80c4-6959408581b9
X-WR-CALDESC:Did you have art in our current exhibit? Did you purchase a pi
 ece from the Youth in Art Exhibit?\nYou may pick up your artwork between 3
 :00 and 5:00 pm on December 11th! Please note we will be closed to clean a
 nd paint the Gallery December 14th - December 18th and we need you to pick
  up your art. Schedule a time or let us know you are at the Main Street Ga
 llery  by calling Jeff at 225-2211
X-WR-RELCALID:3d3e767852dd6633ea2f02f63caaf068
X-WR-TIMEZONE:America/Anchorage
BEGIN:VTIMEZONE
TZID:America/Anchorage
BEGIN:STANDARD
TZNAME:AKST
DTSTART:20201101T020000
TZOFFSETFROM:-0800
TZOFFSETTO:-0900
RDATE:20211107T020000
END:STANDARD
BEGIN:DAYLIGHT
TZNAME:AKDT
DTSTART:20200308T020000
TZOFFSETFROM:-0900
TZOFFSETTO:-0800
RDATE:20210314T020000
RDATE:20220313T020000
END:DAYLIGHT
END:VTIMEZONE
BEGIN:VEVENT
UID:1a36f8e7-c25e-4034-a31a-ad60d7654f77
DTSTAMP:20260421T115757Z
DESCRIPTION:Did you have art in our current exhibit? Did you purchase a pie
 ce from the Youth in Art Exhibit?\nYou may pick up your artwork between 3:
 00 and 5:00 pm on December 11th! Please note we will be closed to clean an
 d paint the Gallery December 14th - December 18th and we need you to pick 
 up your art. Schedule a time or let us know you are at the Main Street Gal
 lery  by calling Jeff at 225-2211
DTSTART;TZID=America/Anchorage:20201211T150000
DTEND;TZID=America/Anchorage:20201211T170000
LOCATION:The Main Street Gallery
SUMMARY:Art Pick Up Day
END:VEVENT
END:VCALENDAR
