BEGIN:VCALENDAR
VERSION:2.0
PRODID:-//www.ketchikanarts.org//NONSGML kigkonsult.se iCalcreator 2.30.10/
 /
CALSCALE:GREGORIAN
METHOD:PUBLISH
UID:f981dc59-3312-4ea8-aedb-5ceaaa43e1a1
X-WR-CALDESC:Solo Thursday Nights at the Creek Street Cabaret\nFree No Cove
 r\nMust be 21 or with a parent or legal guardian
X-WR-RELCALID:a7cc355f0e83f6a8db44754661c03e39
X-WR-TIMEZONE:America/Anchorage
BEGIN:VTIMEZONE
TZID:America/Anchorage
BEGIN:STANDARD
TZNAME:AKST
DTSTART:20201101T020000
TZOFFSETFROM:-0800
TZOFFSETTO:-0900
RDATE:20211107T020000
END:STANDARD
BEGIN:DAYLIGHT
TZNAME:AKDT
DTSTART:20200308T020000
TZOFFSETFROM:-0900
TZOFFSETTO:-0800
RDATE:20210314T020000
RDATE:20220313T020000
END:DAYLIGHT
END:VTIMEZONE
BEGIN:VEVENT
UID:3ce5a74e-168e-4ac5-8c15-e43823cc14d9
DTSTAMP:20260421T121534Z
DESCRIPTION:Solo Thursday Nights at the Creek Street Cabaret\nFree No Cover
 \nMust be 21 or with a parent or legal guardian
DTSTART;TZID=America/Anchorage:20201210T183000
DTEND;TZID=America/Anchorage:20201210T213000
LOCATION:Creek Street Cabaret
SUMMARY:Austin Hays Solo
END:VEVENT
END:VCALENDAR
