BEGIN:VCALENDAR
VERSION:2.0
PRODID:-//www.ketchikanarts.org//NONSGML kigkonsult.se iCalcreator 2.30.10/
 /
CALSCALE:GREGORIAN
METHOD:PUBLISH
UID:18b6350e-e914-4d48-b41e-6c1ae84444bd
X-WR-CALDESC:Self-described paleo nerds Ray Troll and David Strassman discu
 ss paleontology with experts around the nation in their podcast. New podca
 sts every Wednesday!
X-WR-RELCALID:fa3ecc1cda5f617799eff21a3f5edb10
X-WR-TIMEZONE:America/Anchorage
BEGIN:VTIMEZONE
TZID:America/Anchorage
BEGIN:STANDARD
TZNAME:AKST
DTSTART:20201101T020000
TZOFFSETFROM:-0800
TZOFFSETTO:-0900
RDATE:20211107T020000
END:STANDARD
BEGIN:DAYLIGHT
TZNAME:AKDT
DTSTART:20200308T020000
TZOFFSETFROM:-0900
TZOFFSETTO:-0800
RDATE:20210314T020000
RDATE:20220313T020000
END:DAYLIGHT
END:VTIMEZONE
BEGIN:VEVENT
UID:e9a0a332-955a-4eb3-a710-a35b428ab993
DTSTAMP:20260421T121534Z
DESCRIPTION:Self-described paleo nerds Ray Troll and David Strassman discus
 s paleontology with experts around the nation in their podcast. New podcas
 ts every Wednesday!
DTSTART;TZID=America/Anchorage:20201209T120000
DTEND;TZID=America/Anchorage:20201209T130000
LOCATION:An online podcast!
SUMMARY:Paleo Nerds
END:VEVENT
END:VCALENDAR
