BEGIN:VCALENDAR
VERSION:2.0
PRODID:-//www.ketchikanarts.org//NONSGML kigkonsult.se iCalcreator 2.30.10/
 /
CALSCALE:GREGORIAN
METHOD:PUBLISH
UID:9bb83ab2-a6aa-4c95-9f85-9e68927f4ec1
X-WR-CALDESC:Jack Finnegan will host the new Stories at Latitude 56* progra
 m on KRBD!!! Stay tuned for more information on how you can get involved!
X-WR-RELCALID:966669b8cf629385b1167c085d2e876a
X-WR-TIMEZONE:America/Anchorage
BEGIN:VTIMEZONE
TZID:America/Anchorage
BEGIN:STANDARD
TZNAME:AKST
DTSTART:20201101T020000
TZOFFSETFROM:-0800
TZOFFSETTO:-0900
RDATE:20211107T020000
END:STANDARD
BEGIN:DAYLIGHT
TZNAME:AKDT
DTSTART:20200308T020000
TZOFFSETFROM:-0900
TZOFFSETTO:-0800
RDATE:20210314T020000
RDATE:20220313T020000
END:DAYLIGHT
END:VTIMEZONE
BEGIN:VEVENT
UID:1b284f17-2be8-4610-8068-a7c049beabae
DTSTAMP:20260421T120945Z
DESCRIPTION:Jack Finnegan will host the new Stories at Latitude 56* program
  on KRBD!!! Stay tuned for more information on how you can get involved!
DTSTART;TZID=America/Anchorage:20201205T210000
DTEND;TZID=America/Anchorage:20201205T213000
LOCATION:KRBD 105.3 FM
SUMMARY:Stories at Latitude 56* Radio Show
END:VEVENT
END:VCALENDAR
