BEGIN:VCALENDAR
VERSION:2.0
PRODID:-//www.ketchikanarts.org//NONSGML kigkonsult.se iCalcreator 2.30.10/
 /
CALSCALE:GREGORIAN
METHOD:PUBLISH
UID:53e56771-3e37-45cf-9022-1f81b9f9880b
X-WR-CALDESC:A call to all Tlingit\, Haida\, and Tsimshian entrepreneurs or
  artisans! \nSealaska hopes to highlight artists and entrepreneurs that ma
 y benefit from having extra attention directed to you this holiday season.
  Contact Tasha Heumann with the name of the business\, a brief description
  of the business\, photo\, and contact information at tasha.heumann@sealas
 ka.com
X-WR-RELCALID:10f63796deb2f08e27783c583cb49e12
X-WR-TIMEZONE:America/Anchorage
BEGIN:VTIMEZONE
TZID:America/Anchorage
BEGIN:STANDARD
TZNAME:AKST
DTSTART:20201101T020000
TZOFFSETFROM:-0800
TZOFFSETTO:-0900
RDATE:20211107T020000
END:STANDARD
BEGIN:DAYLIGHT
TZNAME:AKDT
DTSTART:20200308T020000
TZOFFSETFROM:-0900
TZOFFSETTO:-0800
RDATE:20210314T020000
RDATE:20220313T020000
END:DAYLIGHT
END:VTIMEZONE
BEGIN:VEVENT
UID:b3a393b3-bf8c-491f-ac17-0ff7df238e7a
DTSTAMP:20260421T114859Z
DESCRIPTION:A call to all Tlingit\, Haida\, and Tsimshian entrepreneurs or 
 artisans! \nSealaska hopes to highlight artists and entrepreneurs that may
  benefit from having extra attention directed to you this holiday season. 
 Contact Tasha Heumann with the name of the business\, a brief description 
 of the business\, photo\, and contact information at tasha.heumann@sealask
 a.com
DTSTART;TZID=America/Anchorage:20201205T000000
DTEND;TZID=America/Anchorage:20201205T235900
LOCATION:
SUMMARY:Sealaska Heritage
END:VEVENT
END:VCALENDAR
