BEGIN:VCALENDAR
VERSION:2.0
PRODID:-//www.ketchikanarts.org//NONSGML kigkonsult.se iCalcreator 2.30.10/
 /
CALSCALE:GREGORIAN
METHOD:PUBLISH
UID:3bb2e516-f085-4d5c-a927-6e5f8aa0bd17
X-WR-CALDESC:Solo Thursday Nights at the Creek Street Cabaret\nFree No Cove
 r\nMust be 21 or with a parent or legal guardian
X-WR-RELCALID:802fcc528b9b56df06aeb3946feb587a
X-WR-TIMEZONE:America/Anchorage
BEGIN:VTIMEZONE
TZID:America/Anchorage
BEGIN:STANDARD
TZNAME:AKST
DTSTART:20201101T020000
TZOFFSETFROM:-0800
TZOFFSETTO:-0900
RDATE:20211107T020000
END:STANDARD
BEGIN:DAYLIGHT
TZNAME:AKDT
DTSTART:20200308T020000
TZOFFSETFROM:-0900
TZOFFSETTO:-0800
RDATE:20210314T020000
RDATE:20220313T020000
END:DAYLIGHT
END:VTIMEZONE
BEGIN:VEVENT
UID:fa416d6c-a78f-42f7-8ebf-563c4e452b3b
DTSTAMP:20260421T120805Z
DESCRIPTION:Solo Thursday Nights at the Creek Street Cabaret\nFree No Cover
 \nMust be 21 or with a parent or legal guardian
DTSTART;TZID=America/Anchorage:20201203T183000
DTEND;TZID=America/Anchorage:20201203T213000
LOCATION:Creek Street Cabaret
SUMMARY:Austin Hays Solo
END:VEVENT
END:VCALENDAR
