BEGIN:VCALENDAR
VERSION:2.0
PRODID:-//www.ketchikanarts.org//NONSGML kigkonsult.se iCalcreator 2.30.10/
 /
CALSCALE:GREGORIAN
METHOD:PUBLISH
UID:b3a569e2-7095-4150-aff1-697ea5bf6737
X-WR-CALDESC:The City Tree Lighting will be broadcast virtually on KPUtv Ch
 anel 611\, Live in Ketchikan\, and the City of Ketchikan's Facebook page. 
 Watch this holiday special from home!
X-WR-RELCALID:657735b4d0c1929e60a9459988062e99
X-WR-TIMEZONE:America/Anchorage
BEGIN:VTIMEZONE
TZID:America/Anchorage
BEGIN:STANDARD
TZNAME:AKST
DTSTART:20201101T020000
TZOFFSETFROM:-0800
TZOFFSETTO:-0900
RDATE:20211107T020000
END:STANDARD
BEGIN:DAYLIGHT
TZNAME:AKDT
DTSTART:20200308T020000
TZOFFSETFROM:-0900
TZOFFSETTO:-0800
RDATE:20210314T020000
RDATE:20220313T020000
END:DAYLIGHT
END:VTIMEZONE
BEGIN:VEVENT
UID:bcd91785-7052-411e-8780-6b4bd22c011b
DTSTAMP:20260421T131100Z
DESCRIPTION:The City Tree Lighting will be broadcast virtually on KPUtv Cha
 nel 611\, Live in Ketchikan\, and the City of Ketchikan's Facebook page. W
 atch this holiday special from home!
DTSTART;TZID=America/Anchorage:20201129T183000
DTEND;TZID=America/Anchorage:20201129T193000
LOCATION:
SUMMARY:Virtual Tree Lighting
END:VEVENT
END:VCALENDAR
