BEGIN:VCALENDAR
VERSION:2.0
PRODID:-//www.ketchikanarts.org//NONSGML kigkonsult.se iCalcreator 2.30.10/
 /
CALSCALE:GREGORIAN
METHOD:PUBLISH
UID:153988ef-f121-4ddc-8665-d87996a76d45
X-WR-CALDESC:Santa will travel around neighborhoods to visit children\, on 
 a Fire Truck! See the above route to find out when he will be in your neig
 hborhood!!!
X-WR-RELCALID:c221521574d4cca614c648e43c588375
X-WR-TIMEZONE:America/Anchorage
BEGIN:VTIMEZONE
TZID:America/Anchorage
BEGIN:STANDARD
TZNAME:AKST
DTSTART:20201101T020000
TZOFFSETFROM:-0800
TZOFFSETTO:-0900
RDATE:20211107T020000
END:STANDARD
BEGIN:DAYLIGHT
TZNAME:AKDT
DTSTART:20200308T020000
TZOFFSETFROM:-0900
TZOFFSETTO:-0800
RDATE:20210314T020000
RDATE:20220313T020000
END:DAYLIGHT
END:VTIMEZONE
BEGIN:VEVENT
UID:addb3603-4d14-44ba-815e-72f91fe4e178
DTSTAMP:20260421T131243Z
DESCRIPTION:Santa will travel around neighborhoods to visit children\, on a
  Fire Truck! See the above route to find out when he will be in your neigh
 borhood!!!
DTSTART;TZID=America/Anchorage:20201129T163000
DTEND;TZID=America/Anchorage:20201129T173000
LOCATION:
SUMMARY:Santa on Fire Trucks
END:VEVENT
END:VCALENDAR
