BEGIN:VCALENDAR
VERSION:2.0
PRODID:-//www.ketchikanarts.org//NONSGML kigkonsult.se iCalcreator 2.30.10/
 /
CALSCALE:GREGORIAN
METHOD:PUBLISH
UID:a4c2bae0-ab3f-4218-894e-b13e2b5247e4
X-WR-CALDESC:#ShopKTN2020\nTake selfies with small businesses and their Swe
 epstakes posters! \nPost your images on Social media with the hashtag #sho
 pktn2020\nGet entered to win the small business selfie sweepstakes!!!!\nIt
 ’s that easy! The winner will be announced Via Providence Properties Faceb
 ook Live on November 30th at 12:45 pm!\nCall 907-225-7427 with any questio
 ns!
X-WR-RELCALID:89262ac24ba5636486ace93e9616b1ef
X-WR-TIMEZONE:America/Anchorage
BEGIN:VTIMEZONE
TZID:America/Anchorage
BEGIN:STANDARD
TZNAME:AKST
DTSTART:20201101T020000
TZOFFSETFROM:-0800
TZOFFSETTO:-0900
RDATE:20211107T020000
END:STANDARD
BEGIN:DAYLIGHT
TZNAME:AKDT
DTSTART:20200308T020000
TZOFFSETFROM:-0900
TZOFFSETTO:-0800
RDATE:20210314T020000
RDATE:20220313T020000
END:DAYLIGHT
END:VTIMEZONE
BEGIN:VEVENT
UID:e368950a-1f77-4b49-b030-f988379503a8
DTSTAMP:20260421T131708Z
DESCRIPTION:#ShopKTN2020\nTake selfies with small businesses and their Swee
 pstakes posters! \nPost your images on Social media with the hashtag #shop
 ktn2020\nGet entered to win the small business selfie sweepstakes!!!!\nIt’
 s that easy! The winner will be announced Via Providence Properties Facebo
 ok Live on November 30th at 12:45 pm!\nCall 907-225-7427 with any question
 s!
DTSTART;TZID=America/Anchorage:20201128T090000
DTEND;TZID=America/Anchorage:20201129T170000
LOCATION:
SUMMARY:Small Business Selfie Sweepstakes!
END:VEVENT
END:VCALENDAR
