BEGIN:VCALENDAR
VERSION:2.0
PRODID:-//www.ketchikanarts.org//NONSGML kigkonsult.se iCalcreator 2.30.10/
 /
CALSCALE:GREGORIAN
METHOD:PUBLISH
UID:8bb15f2a-7ed2-4648-9022-9c0bd3f0c347
X-WR-CALDESC:Enjoy a special evening supporting all your favorite arts busi
 nesses in-person (?) and online!
X-WR-RELCALID:188c1b9bf54238bc8b715f6bb3418bc9
X-WR-TIMEZONE:America/Anchorage
BEGIN:VTIMEZONE
TZID:America/Anchorage
BEGIN:STANDARD
TZNAME:AKST
DTSTART:20201101T020000
TZOFFSETFROM:-0800
TZOFFSETTO:-0900
RDATE:20211107T020000
END:STANDARD
BEGIN:DAYLIGHT
TZNAME:AKDT
DTSTART:20200308T020000
TZOFFSETFROM:-0900
TZOFFSETTO:-0800
RDATE:20210314T020000
RDATE:20220313T020000
END:DAYLIGHT
END:VTIMEZONE
BEGIN:VEVENT
UID:348e6a84-9e02-4b0a-99e7-4f157b35ea6a
DTSTAMP:20260421T131111Z
DESCRIPTION:Enjoy a special evening supporting all your favorite arts busin
 esses in-person (?) and online!
DTSTART;TZID=America/Anchorage:20201127T140000
DTEND;TZID=America/Anchorage:20201127T200000
LOCATION:
SUMMARY:BLITZwalk!
END:VEVENT
END:VCALENDAR
