BEGIN:VCALENDAR
VERSION:2.0
PRODID:-//www.ketchikanarts.org//NONSGML kigkonsult.se iCalcreator 2.30.10/
 /
CALSCALE:GREGORIAN
METHOD:PUBLISH
UID:f19f5bd5-206c-46c5-a8e0-9fb24cc7dd67
X-WR-CALDESC:Live music! Live streamng! Thank you!!!
X-WR-RELCALID:14ba14d3efabb8f55c1464e0c48519e5
X-WR-TIMEZONE:America/Anchorage
BEGIN:VTIMEZONE
TZID:America/Anchorage
BEGIN:STANDARD
TZNAME:AKST
DTSTART:20201101T020000
TZOFFSETFROM:-0800
TZOFFSETTO:-0900
RDATE:20211107T020000
END:STANDARD
BEGIN:DAYLIGHT
TZNAME:AKDT
DTSTART:20200308T020000
TZOFFSETFROM:-0900
TZOFFSETTO:-0800
RDATE:20210314T020000
RDATE:20220313T020000
END:DAYLIGHT
END:VTIMEZONE
BEGIN:VEVENT
UID:dc5a3c05-05f6-4eab-96b6-6d57b395ea5b
DTSTAMP:20260421T131341Z
DESCRIPTION:Live music! Live streamng! Thank you!!!
DTSTART;TZID=America/Anchorage:20201121T200000
DTEND;TZID=America/Anchorage:20201121T220000
LOCATION:https://www.facebook.com/woodysfinesthour
SUMMARY:Woody's Finest Hour
END:VEVENT
END:VCALENDAR
