BEGIN:VCALENDAR
VERSION:2.0
PRODID:-//www.ketchikanarts.org//NONSGML kigkonsult.se iCalcreator 2.30.10/
 /
CALSCALE:GREGORIAN
METHOD:PUBLISH
UID:54d80a60-da9a-4619-9b19-024b65596ab5
X-WR-CALDESC:A guided class resulting in your own octopus painting! Hosted 
 by Krystal Thomas
X-WR-RELCALID:b4f222a349902b7337aa959bee7c1ff2
X-WR-TIMEZONE:America/Anchorage
BEGIN:VTIMEZONE
TZID:America/Anchorage
BEGIN:STANDARD
TZNAME:AKST
DTSTART:20201101T020000
TZOFFSETFROM:-0800
TZOFFSETTO:-0900
RDATE:20211107T020000
END:STANDARD
BEGIN:DAYLIGHT
TZNAME:AKDT
DTSTART:20200308T020000
TZOFFSETFROM:-0900
TZOFFSETTO:-0800
RDATE:20210314T020000
RDATE:20220313T020000
END:DAYLIGHT
END:VTIMEZONE
BEGIN:VEVENT
UID:463a1bf1-c053-4b8b-8a93-9e168bed98e7
DTSTAMP:20260421T131341Z
DESCRIPTION:A guided class resulting in your own octopus painting! Hosted b
 y Krystal Thomas
DTSTART;TZID=America/Anchorage:20201120T173000
DTEND;TZID=America/Anchorage:20201120T193000
LOCATION:Vibrance - A Creative Space
SUMMARY:Acrylic Octopus Painting Class
END:VEVENT
END:VCALENDAR
