BEGIN:VCALENDAR
VERSION:2.0
PRODID:-//www.ketchikanarts.org//NONSGML kigkonsult.se iCalcreator 2.30.10/
 /
CALSCALE:GREGORIAN
METHOD:PUBLISH
UID:162cce33-4a33-44cb-a66e-8d1f9da38b10
X-WR-CALDESC:Ask UAS- Lecture Barbara Morgan \nFacebook live
X-WR-RELCALID:808c8cb7e90b552ea7ca9515bf0ce124
X-WR-TIMEZONE:America/Anchorage
BEGIN:VTIMEZONE
TZID:America/Anchorage
BEGIN:STANDARD
TZNAME:AKST
DTSTART:20201101T020000
TZOFFSETFROM:-0800
TZOFFSETTO:-0900
RDATE:20211107T020000
END:STANDARD
BEGIN:DAYLIGHT
TZNAME:AKDT
DTSTART:20200308T020000
TZOFFSETFROM:-0900
TZOFFSETTO:-0800
RDATE:20210314T020000
RDATE:20220313T020000
END:DAYLIGHT
END:VTIMEZONE
BEGIN:VEVENT
UID:dc397828-2f7b-486c-b972-9d5ddafb5201
DTSTAMP:20260421T131732Z
DESCRIPTION:Ask UAS- Lecture Barbara Morgan \nFacebook live
DTSTART;TZID=America/Anchorage:20201119T180000
DTEND;TZID=America/Anchorage:20201119T190000
LOCATION:https://www.facebook.com/KetchikanCampusLibrary
SUMMARY:Ask UAS - Ketchikan Bird Life
END:VEVENT
END:VCALENDAR
