BEGIN:VCALENDAR
VERSION:2.0
PRODID:-//www.ketchikanarts.org//NONSGML kigkonsult.se iCalcreator 2.30.10/
 /
CALSCALE:GREGORIAN
METHOD:PUBLISH
UID:9c864bf2-13a5-4c61-b492-99fbabbba227
X-WR-CALDESC:Calling all singers! Fall practice will begin Thursday\, Septe
 mber 17th\, 7- 8:00 pm at the Ketchikan Presbyterian Church\, and continue
  every Thursday 7-8 pm. Masks will be required. Zoom rehearsals are availa
 ble on request. For more information please email Torrie Wolery ktnccsings
 @gmail.com 
X-WR-RELCALID:84cb886c8ca8421ae17a639537e8aaaf
X-WR-TIMEZONE:America/Anchorage
BEGIN:VTIMEZONE
TZID:America/Anchorage
BEGIN:STANDARD
TZNAME:AKST
DTSTART:20201101T020000
TZOFFSETFROM:-0800
TZOFFSETTO:-0900
RDATE:20211107T020000
END:STANDARD
BEGIN:DAYLIGHT
TZNAME:AKDT
DTSTART:20200308T020000
TZOFFSETFROM:-0900
TZOFFSETTO:-0800
RDATE:20210314T020000
RDATE:20220313T020000
END:DAYLIGHT
END:VTIMEZONE
BEGIN:VEVENT
UID:492c51ff-41f4-44b8-bf48-25e8b380082d
DTSTAMP:20260421T131922Z
DESCRIPTION:Calling all singers! Fall practice will begin Thursday\, Septem
 ber 17th\, 7- 8:00 pm at the Ketchikan Presbyterian Church\, and continue 
 every Thursday 7-8 pm. Masks will be required. Zoom rehearsals are availab
 le on request. For more information please email Torrie Wolery ktnccsings@
 gmail.com 
DTSTART;TZID=America/Anchorage:20201119T190000
DTEND;TZID=America/Anchorage:20201119T200000
LOCATION:Ketchikan Presbyterian Church
SUMMARY:Ketchikan Community Chorus Rehearsal
END:VEVENT
END:VCALENDAR
