BEGIN:VCALENDAR
VERSION:2.0
PRODID:-//www.ketchikanarts.org//NONSGML kigkonsult.se iCalcreator 2.30.10/
 /
CALSCALE:GREGORIAN
METHOD:PUBLISH
UID:47495f54-0471-45df-80e6-c755f45219c2
X-WR-CALDESC:Take your Dot technique to the next level! Hosted by Vibrance-
 A Creative Space
X-WR-RELCALID:165cba0fa76c55e9907e74c684db96e8
X-WR-TIMEZONE:America/Anchorage
BEGIN:VTIMEZONE
TZID:America/Anchorage
BEGIN:STANDARD
TZNAME:AKST
DTSTART:20201101T020000
TZOFFSETFROM:-0800
TZOFFSETTO:-0900
RDATE:20211107T020000
END:STANDARD
BEGIN:DAYLIGHT
TZNAME:AKDT
DTSTART:20200308T020000
TZOFFSETFROM:-0900
TZOFFSETTO:-0800
RDATE:20210314T020000
RDATE:20220313T020000
END:DAYLIGHT
END:VTIMEZONE
BEGIN:VEVENT
UID:f5720051-69a9-4821-966f-7d9c253b071c
DTSTAMP:20260421T131233Z
DESCRIPTION:Take your Dot technique to the next level! Hosted by Vibrance-A
  Creative Space
DTSTART;TZID=America/Anchorage:20201117T173000
DTEND;TZID=America/Anchorage:20201117T193000
LOCATION:Vibrance - A Creative Space
SUMMARY:Advanced Dot Art Painting
END:VEVENT
END:VCALENDAR
