BEGIN:VCALENDAR
VERSION:2.0
PRODID:-//www.ketchikanarts.org//NONSGML kigkonsult.se iCalcreator 2.30.10/
 /
CALSCALE:GREGORIAN
METHOD:PUBLISH
UID:255e6de6-4595-4990-8f59-7c8d3c56f7de
X-WR-CALDESC:Ketchikan Area Arts and Humanities Council has partnered with 
 KRBD to bring you Stories at Latitude 56* The Radio Edition!!! MC Jack Fin
 negan will host the new Stories at Latitude 56* The Radio Edition program 
 on KRBD!!! Our first episodes will showcase the talents of Halli Kenoyer\,
  Rich Stage\, and Peter Epler! November 7th at 9:00 pm
X-WR-RELCALID:cc98bb85c53745ae64f588cb15f5db63
X-WR-TIMEZONE:America/Anchorage
BEGIN:VTIMEZONE
TZID:America/Anchorage
BEGIN:STANDARD
TZNAME:AKST
DTSTART:20201101T020000
TZOFFSETFROM:-0800
TZOFFSETTO:-0900
RDATE:20211107T020000
END:STANDARD
BEGIN:DAYLIGHT
TZNAME:AKDT
DTSTART:20200308T020000
TZOFFSETFROM:-0900
TZOFFSETTO:-0800
RDATE:20210314T020000
RDATE:20220313T020000
END:DAYLIGHT
END:VTIMEZONE
BEGIN:VEVENT
UID:9762c93c-c52c-4010-b9b8-a2482aebf993
DTSTAMP:20260421T131753Z
DESCRIPTION:Ketchikan Area Arts and Humanities Council has partnered with K
 RBD to bring you Stories at Latitude 56* The Radio Edition!!! MC Jack Finn
 egan will host the new Stories at Latitude 56* The Radio Edition program o
 n KRBD!!! Our first episodes will showcase the talents of Halli Kenoyer\, 
 Rich Stage\, and Peter Epler! November 7th at 9:00 pm
DTSTART;TZID=America/Anchorage:20201107T210000
DTEND;TZID=America/Anchorage:20201107T213000
LOCATION:KRBD 105.3 FM
SUMMARY:Stories at Latitude 56* Radio Show
END:VEVENT
END:VCALENDAR
