BEGIN:VCALENDAR
VERSION:2.0
PRODID:-//www.ketchikanarts.org//NONSGML kigkonsult.se iCalcreator 2.30.10/
 /
CALSCALE:GREGORIAN
METHOD:PUBLISH
UID:8e95e684-a545-45de-b6bc-6a89ade2b10b
X-WR-CALDESC:Dave Rubin\, Hannah Karrik\, and Chaz Gist play live music in 
 the Heen Kahidi dining room and bar. Enjoy acoustic music while dinning at
  Cape Fox.
X-WR-RELCALID:e8c755cb50d2c176395b8bee960f68e9
X-WR-TIMEZONE:America/Anchorage
BEGIN:VTIMEZONE
TZID:America/Anchorage
BEGIN:STANDARD
TZNAME:AKST
DTSTART:20201101T020000
TZOFFSETFROM:-0800
TZOFFSETTO:-0900
RDATE:20211107T020000
END:STANDARD
BEGIN:DAYLIGHT
TZNAME:AKDT
DTSTART:20200308T020000
TZOFFSETFROM:-0900
TZOFFSETTO:-0800
RDATE:20210314T020000
RDATE:20220313T020000
END:DAYLIGHT
END:VTIMEZONE
BEGIN:VEVENT
UID:9d2c29ca-c345-43c2-bb4f-c1ee5411e54c
DTSTAMP:20260421T131234Z
DESCRIPTION:Dave Rubin\, Hannah Karrik\, and Chaz Gist play live music in t
 he Heen Kahidi dining room and bar. Enjoy acoustic music while dinning at 
 Cape Fox.
DTSTART;TZID=America/Anchorage:20201105T180000
DTEND;TZID=America/Anchorage:20201105T200000
LOCATION:Cape Fox Lodge
SUMMARY:Cape Fox Players
END:VEVENT
END:VCALENDAR
