BEGIN:VCALENDAR
VERSION:2.0
PRODID:-//www.ketchikanarts.org//NONSGML kigkonsult.se iCalcreator 2.30.10/
 /
CALSCALE:GREGORIAN
METHOD:PUBLISH
UID:d3cf7430-6435-4105-b242-75ade70876f3
X-WR-CALDESC:Dave Rubin\, Hannah Karrik\, and Chaz Gist play live music in 
 the Heen Kahidi dining room and bar. Enjoy acoustic music while dinning at
  Cape Fox.
X-WR-RELCALID:32f74534dc056dc582d4bbe9378e8c63
X-WR-TIMEZONE:America/Anchorage
BEGIN:VTIMEZONE
TZID:America/Anchorage
BEGIN:STANDARD
TZNAME:AKST
DTSTART:20191103T020000
TZOFFSETFROM:-0800
TZOFFSETTO:-0900
RDATE:20201101T020000
RDATE:20211107T020000
END:STANDARD
BEGIN:DAYLIGHT
TZNAME:AKDT
DTSTART:20200308T020000
TZOFFSETFROM:-0900
TZOFFSETTO:-0800
RDATE:20210314T020000
RDATE:20220313T020000
END:DAYLIGHT
END:VTIMEZONE
BEGIN:VEVENT
UID:e7168cec-5cc3-48e3-ac94-d362df00a1c6
DTSTAMP:20260421T185244Z
DESCRIPTION:Dave Rubin\, Hannah Karrik\, and Chaz Gist play live music in t
 he Heen Kahidi dining room and bar. Enjoy acoustic music while dinning at 
 Cape Fox.
DTSTART;TZID=America/Anchorage:20201029T180000
DTEND;TZID=America/Anchorage:20201029T200000
LOCATION:Cape Fox Lodge
SUMMARY:Cape Fox Players
END:VEVENT
END:VCALENDAR
