BEGIN:VCALENDAR
VERSION:2.0
PRODID:-//www.ketchikanarts.org//NONSGML kigkonsult.se iCalcreator 2.30.10/
 /
CALSCALE:GREGORIAN
METHOD:PUBLISH
UID:fe1ba9e2-ef58-497e-8ffc-9ce5539d78f0
X-WR-CALDESC:Free discussion with Haines Author Heather Lende about her new
  book\, 'Find the Good: Unexpected Life Lessons from Small-Town Obituary W
 riter'
X-WR-RELCALID:94267f68a62804b5adc006a1dbc0ddff
X-WR-TIMEZONE:America/Anchorage
BEGIN:VTIMEZONE
TZID:America/Anchorage
BEGIN:STANDARD
TZNAME:AKST
DTSTART:20191103T020000
TZOFFSETFROM:-0800
TZOFFSETTO:-0900
RDATE:20201101T020000
RDATE:20211107T020000
END:STANDARD
BEGIN:DAYLIGHT
TZNAME:AKDT
DTSTART:20200308T020000
TZOFFSETFROM:-0900
TZOFFSETTO:-0800
RDATE:20210314T020000
RDATE:20220313T020000
END:DAYLIGHT
END:VTIMEZONE
BEGIN:VEVENT
UID:6dde1b0b-fa76-41ed-8270-920442c965f2
DTSTAMP:20260421T145306Z
DESCRIPTION:Free discussion with Haines Author Heather Lende about her new 
 book\, 'Find the Good: Unexpected Life Lessons from Small-Town Obituary Wr
 iter'
DTSTART;TZID=America/Anchorage:20201024T140000
DTEND;TZID=America/Anchorage:20201024T150000
LOCATION:Call Library 225-3331 for a Zoom Link
SUMMARY:Book Chat with Author Heather Lende
END:VEVENT
END:VCALENDAR
