BEGIN:VCALENDAR
VERSION:2.0
PRODID:-//www.ketchikanarts.org//NONSGML kigkonsult.se iCalcreator 2.30.10/
 /
CALSCALE:GREGORIAN
METHOD:PUBLISH
UID:8a468854-ed6c-4cee-8673-31b8502fe52f
X-WR-CALDESC:Ketchikan Public Library and UAS Ketchikan present 'Better STo
 ry Telling through Script Writting' This Saturday at 2 pm: Prof. Stephen F
 lorian will be presenting.
X-WR-RELCALID:82ba3bc825653818031f2793fa6cea4a
X-WR-TIMEZONE:America/Anchorage
BEGIN:VTIMEZONE
TZID:America/Anchorage
BEGIN:STANDARD
TZNAME:AKST
DTSTART:20191103T020000
TZOFFSETFROM:-0800
TZOFFSETTO:-0900
RDATE:20201101T020000
RDATE:20211107T020000
END:STANDARD
BEGIN:DAYLIGHT
TZNAME:AKDT
DTSTART:20200308T020000
TZOFFSETFROM:-0900
TZOFFSETTO:-0800
RDATE:20210314T020000
RDATE:20220313T020000
END:DAYLIGHT
END:VTIMEZONE
BEGIN:VEVENT
UID:126ae9ad-5c83-4d7b-ab51-68e5c9c35af3
DTSTAMP:20260421T143340Z
DESCRIPTION:Ketchikan Public Library and UAS Ketchikan present 'Better STor
 y Telling through Script Writting' This Saturday at 2 pm: Prof. Stephen Fl
 orian will be presenting.
DTSTART;TZID=America/Anchorage:20201024T140000
DTEND;TZID=America/Anchorage:20201024T150000
LOCATION:Free Call for an invitation
SUMMARY:Better Story Telling through Script Analysis
END:VEVENT
END:VCALENDAR
