BEGIN:VCALENDAR
VERSION:2.0
PRODID:-//www.ketchikanarts.org//NONSGML kigkonsult.se iCalcreator 2.30.10/
 /
CALSCALE:GREGORIAN
METHOD:PUBLISH
UID:6734c74a-b61c-444b-8571-56348ba05f06
X-WR-CALDESC:Music by DJ Latin Soul\n$10 per person 7:00- 8:30
X-WR-RELCALID:ddce94b97fd229e103d753455be5afbc
X-WR-TIMEZONE:America/Anchorage
BEGIN:VTIMEZONE
TZID:America/Anchorage
BEGIN:STANDARD
TZNAME:AKST
DTSTART:20191103T020000
TZOFFSETFROM:-0800
TZOFFSETTO:-0900
RDATE:20201101T020000
RDATE:20211107T020000
END:STANDARD
BEGIN:DAYLIGHT
TZNAME:AKDT
DTSTART:20200308T020000
TZOFFSETFROM:-0900
TZOFFSETTO:-0800
RDATE:20210314T020000
RDATE:20220313T020000
END:DAYLIGHT
END:VTIMEZONE
BEGIN:VEVENT
UID:48bb9c76-40a1-440a-b47b-aa32cb6a72da
DTSTAMP:20260421T145306Z
DESCRIPTION:Music by DJ Latin Soul\n$10 per person 7:00- 8:30
DTSTART;TZID=America/Anchorage:20201023T190000
DTEND;TZID=America/Anchorage:20201023T200000
LOCATION:Creek Street Cabaret
SUMMARY:Salsa Dancing with Coatlicue Toledo
END:VEVENT
END:VCALENDAR
