BEGIN:VCALENDAR
VERSION:2.0
PRODID:-//www.ketchikanarts.org//NONSGML kigkonsult.se iCalcreator 2.30.10/
 /
CALSCALE:GREGORIAN
METHOD:PUBLISH
UID:622a57cf-2e42-4434-9542-9eae8ca950c6
X-WR-CALDESC:Monthly Board of Directors Meeting. Currently all KAAHC Board 
 meetings are held via ZOOM. If you would like to attend a Board meeting pl
 ease contact Kathleen Light for for attendance information. kathleenl@ketc
 hikanarts.org
X-WR-RELCALID:338a665e4237387287fb9a51b8017176
X-WR-TIMEZONE:America/Anchorage
BEGIN:VTIMEZONE
TZID:America/Anchorage
BEGIN:STANDARD
TZNAME:AKST
DTSTART:20191103T020000
TZOFFSETFROM:-0800
TZOFFSETTO:-0900
RDATE:20201101T020000
RDATE:20211107T020000
END:STANDARD
BEGIN:DAYLIGHT
TZNAME:AKDT
DTSTART:20200308T020000
TZOFFSETFROM:-0900
TZOFFSETTO:-0800
RDATE:20210314T020000
RDATE:20220313T020000
END:DAYLIGHT
END:VTIMEZONE
BEGIN:VEVENT
UID:aec869ad-928b-4ec6-929b-d6f331bcef04
DTSTAMP:20260421T145938Z
DESCRIPTION:Monthly Board of Directors Meeting. Currently all KAAHC Board m
 eetings are held via ZOOM. If you would like to attend a Board meeting ple
 ase contact Kathleen Light for for attendance information. kathleenl@ketch
 ikanarts.org
DTSTART;TZID=America/Anchorage:20201021T173000
DTEND;TZID=America/Anchorage:20201021T190000
LOCATION:Main Street Gallery
SUMMARY:Ketchikan Area Arts and Humanities Board of Directors Meeting
END:VEVENT
END:VCALENDAR
