BEGIN:VCALENDAR
VERSION:2.0
PRODID:-//www.ketchikanarts.org//NONSGML kigkonsult.se iCalcreator 2.30.10/
 /
CALSCALE:GREGORIAN
METHOD:PUBLISH
UID:f445746f-610a-4263-889d-14237971f640
X-WR-CALDESC:Artist Presentation with Sara Dove Orozco: Enjoy an engaging d
 iscussion and conversation about her exhibit 'Eroticism is...'Participate 
 in a demonstration and practice of the traditional art of papel Picado.  A
 ll supplies provided. Class size is limited\, please sign up with the Arts
  Council. The demonstration will be live on Facebook starting at 1:00 pm.
X-WR-RELCALID:ff888945b35810db6cc0b6811126348f
X-WR-TIMEZONE:America/Anchorage
BEGIN:VTIMEZONE
TZID:America/Anchorage
BEGIN:STANDARD
TZNAME:AKST
DTSTART:20191103T020000
TZOFFSETFROM:-0800
TZOFFSETTO:-0900
RDATE:20201101T020000
RDATE:20211107T020000
END:STANDARD
BEGIN:DAYLIGHT
TZNAME:AKDT
DTSTART:20200308T020000
TZOFFSETFROM:-0900
TZOFFSETTO:-0800
RDATE:20210314T020000
RDATE:20220313T020000
END:DAYLIGHT
END:VTIMEZONE
BEGIN:VEVENT
UID:ccb71d03-5d6c-4fec-92dc-db5dea08c16e
DTSTAMP:20260421T145403Z
DESCRIPTION:Artist Presentation with Sara Dove Orozco: Enjoy an engaging di
 scussion and conversation about her exhibit 'Eroticism is...'Participate i
 n a demonstration and practice of the traditional art of papel Picado.  Al
 l supplies provided. Class size is limited\, please sign up with the Arts 
 Council. The demonstration will be live on Facebook starting at 1:00 pm.
DTSTART;TZID=America/Anchorage:20201017T120000
DTEND;TZID=America/Anchorage:20201017T140000
LOCATION:Main Street Gallery\, 330 Main Street\, Ketchikan\, AK 99901 US
SUMMARY:Artist Presentation Sara Orozco
END:VEVENT
END:VCALENDAR
