BEGIN:VCALENDAR
VERSION:2.0
PRODID:-//www.ketchikanarts.org//NONSGML kigkonsult.se iCalcreator 2.30.10/
 /
CALSCALE:GREGORIAN
METHOD:PUBLISH
UID:e166b20c-ae0c-4677-8aa5-02e22064a0e5
X-WR-CALDESC:Calling all singers! Fall practice will begin Thursday\, Septe
 mber 17th\, 7- 8:00 pm at the Ketchikan Presbyterian Church\, and continue
  every Thursday 7-8 pm. Masks will be required. Zoom rehearsals are availa
 ble on request. For more information please email Torrie Wolery ktnccsings
 @gmail.com 
X-WR-RELCALID:5c09365f7099ffed9fd2263b50a38abc
X-WR-TIMEZONE:America/Anchorage
BEGIN:VTIMEZONE
TZID:America/Anchorage
BEGIN:STANDARD
TZNAME:AKST
DTSTART:20191103T020000
TZOFFSETFROM:-0800
TZOFFSETTO:-0900
RDATE:20201101T020000
RDATE:20211107T020000
END:STANDARD
BEGIN:DAYLIGHT
TZNAME:AKDT
DTSTART:20200308T020000
TZOFFSETFROM:-0900
TZOFFSETTO:-0800
RDATE:20210314T020000
RDATE:20220313T020000
END:DAYLIGHT
END:VTIMEZONE
BEGIN:VEVENT
UID:1735f9e8-c454-4d35-a1e8-45b1cf435d72
DTSTAMP:20260421T151257Z
DESCRIPTION:Calling all singers! Fall practice will begin Thursday\, Septem
 ber 17th\, 7- 8:00 pm at the Ketchikan Presbyterian Church\, and continue 
 every Thursday 7-8 pm. Masks will be required. Zoom rehearsals are availab
 le on request. For more information please email Torrie Wolery ktnccsings@
 gmail.com 
DTSTART;TZID=America/Anchorage:20201015T190000
DTEND;TZID=America/Anchorage:20201015T200000
LOCATION:Ketchikan Presbyterian Church
SUMMARY:Ketchikan Community Chorus Rehearsal
END:VEVENT
END:VCALENDAR
