BEGIN:VCALENDAR
VERSION:2.0
PRODID:-//www.ketchikanarts.org//NONSGML kigkonsult.se iCalcreator 2.30.10/
 /
CALSCALE:GREGORIAN
METHOD:PUBLISH
UID:addda8bc-dc79-4227-a623-c3fcb908526a
X-WR-CALDESC:Artist Sara Dove Orozco explores intimacy in a series of cut p
 aper skeletons. Enjoy her exhibit online at Ketchikanarts.org or join us f
 or an in-person opening at the Main Street Gallery from 2:00 pm - 7:00 pm.
X-WR-RELCALID:e285dd2255edff032301b5b383c55b95
X-WR-TIMEZONE:America/Anchorage
BEGIN:VTIMEZONE
TZID:America/Anchorage
BEGIN:STANDARD
TZNAME:AKST
DTSTART:20191103T020000
TZOFFSETFROM:-0800
TZOFFSETTO:-0900
RDATE:20201101T020000
RDATE:20211107T020000
END:STANDARD
BEGIN:DAYLIGHT
TZNAME:AKDT
DTSTART:20200308T020000
TZOFFSETFROM:-0900
TZOFFSETTO:-0800
RDATE:20210314T020000
RDATE:20220313T020000
END:DAYLIGHT
END:VTIMEZONE
BEGIN:VEVENT
UID:5e140492-c2a4-43ee-b529-c99e239b258a
DTSTAMP:20260421T145159Z
DESCRIPTION:Artist Sara Dove Orozco explores intimacy in a series of cut pa
 per skeletons. Enjoy her exhibit online at Ketchikanarts.org or join us fo
 r an in-person opening at the Main Street Gallery from 2:00 pm - 7:00 pm.
DTSTART;TZID=America/Anchorage:20201002T140000
DTEND;TZID=America/Anchorage:20201002T190000
LOCATION:The Main Street Gallery
SUMMARY:'Eroticism Is...'
END:VEVENT
END:VCALENDAR
