BEGIN:VCALENDAR
VERSION:2.0
PRODID:-//www.ketchikanarts.org//NONSGML kigkonsult.se iCalcreator 2.30.10/
 /
CALSCALE:GREGORIAN
METHOD:PUBLISH
UID:3af48bc0-8361-4426-a4ab-2122fc3a97eb
X-WR-CALDESC:Public Art proposals DUE for the Tongass Historical Museum Cal
 l for Art. Only digital submissions will be accepted. All submissions must
  be received via email by 5:00pm\, AKST to the Ketchikan Area Arts and Hum
 anities Council via KathleenL@ketchikanarts.org
X-WR-RELCALID:ee02b09e30ce66a9dd2a88233ba53fac
X-WR-TIMEZONE:America/Anchorage
BEGIN:VTIMEZONE
TZID:America/Anchorage
BEGIN:STANDARD
TZNAME:AKST
DTSTART:20191103T020000
TZOFFSETFROM:-0800
TZOFFSETTO:-0900
RDATE:20201101T020000
RDATE:20211107T020000
END:STANDARD
BEGIN:DAYLIGHT
TZNAME:AKDT
DTSTART:20200308T020000
TZOFFSETFROM:-0900
TZOFFSETTO:-0800
RDATE:20210314T020000
RDATE:20220313T020000
END:DAYLIGHT
END:VTIMEZONE
BEGIN:VEVENT
UID:5b57e961-eff0-48bb-986a-9dd1c8a652f6
DTSTAMP:20260421T160857Z
DESCRIPTION:Public Art proposals DUE for the Tongass Historical Museum Call
  for Art. Only digital submissions will be accepted. All submissions must 
 be received via email by 5:00pm\, AKST to the Ketchikan Area Arts and Huma
 nities Council via KathleenL@ketchikanarts.org
DTSTART;TZID=America/Anchorage:20200925T165900
DTEND;TZID=America/Anchorage:20200925T170000
LOCATION:Ketchikan Area Arts and Humanities Council
SUMMARY:Public Art Proposals DUE\, Tongass Historical Museum
END:VEVENT
END:VCALENDAR
