BEGIN:VCALENDAR
VERSION:2.0
PRODID:-//www.ketchikanarts.org//NONSGML kigkonsult.se iCalcreator 2.30.10/
 /
CALSCALE:GREGORIAN
METHOD:PUBLISH
UID:52a358e0-4ca9-4ebd-b9cc-bcc9aae316c9
X-WR-CALDESC:Join the Ketchikan Wellness Coalition and Kayhi Rotary Interac
 t to connect as a community and 'shape peace together'! This event is part
  of Suicide Awareness Month and Peace Week. Fun activities are planned for
  the whole family!\n* Make a tie-dye face mask with Kayhi Rotary!\n* Selec
 t a kindness bag\, for yourself or to give away to someone to spread the j
 oy.\n* Contribute to a community art piece - to be displayed in the commun
 ity post-event!\n******Masks Required******
X-WR-RELCALID:9fe3d0ce9a13714ebe0157917cd7a91a
X-WR-TIMEZONE:America/Anchorage
BEGIN:VTIMEZONE
TZID:America/Anchorage
BEGIN:STANDARD
TZNAME:AKST
DTSTART:20191103T020000
TZOFFSETFROM:-0800
TZOFFSETTO:-0900
RDATE:20201101T020000
RDATE:20211107T020000
END:STANDARD
BEGIN:DAYLIGHT
TZNAME:AKDT
DTSTART:20200308T020000
TZOFFSETFROM:-0900
TZOFFSETTO:-0800
RDATE:20210314T020000
RDATE:20220313T020000
END:DAYLIGHT
END:VTIMEZONE
BEGIN:VEVENT
UID:6d80a1c2-7c1e-4f69-8071-0adc2d926314
DTSTAMP:20260421T160229Z
DESCRIPTION:Join the Ketchikan Wellness Coalition and Kayhi Rotary Interact
  to connect as a community and 'shape peace together'! This event is part 
 of Suicide Awareness Month and Peace Week. Fun activities are planned for 
 the whole family!\n* Make a tie-dye face mask with Kayhi Rotary!\n* Select
  a kindness bag\, for yourself or to give away to someone to spread the jo
 y.\n* Contribute to a community art piece - to be displayed in the communi
 ty post-event!\n******Masks Required******
DTSTART;TZID=America/Anchorage:20200919T120000
DTEND;TZID=America/Anchorage:20200919T150000
LOCATION:A Frame at Berth IV
SUMMARY:Shaping Peace Together
END:VEVENT
END:VCALENDAR
