BEGIN:VCALENDAR
VERSION:2.0
PRODID:-//www.ketchikanarts.org//NONSGML kigkonsult.se iCalcreator 2.30.10/
 /
CALSCALE:GREGORIAN
METHOD:PUBLISH
UID:72489f4a-e7a0-4dbb-8e99-e2cb44b43482
X-WR-CALDESC:Austin Hays (In-Person) \nLive music. A solo piano and voice s
 et.\nFree. 21 and over or accompanied by a parent or legal guardian.\n6:00
  - 8:00 pm\nCreek Street Cabaret 247-5299
X-WR-RELCALID:61ff953ca6b4cf2db608175a762fd435
X-WR-TIMEZONE:America/Anchorage
BEGIN:VTIMEZONE
TZID:America/Anchorage
BEGIN:STANDARD
TZNAME:AKST
DTSTART:20191103T020000
TZOFFSETFROM:-0800
TZOFFSETTO:-0900
RDATE:20201101T020000
RDATE:20211107T020000
END:STANDARD
BEGIN:DAYLIGHT
TZNAME:AKDT
DTSTART:20200308T020000
TZOFFSETFROM:-0900
TZOFFSETTO:-0800
RDATE:20210314T020000
RDATE:20220313T020000
END:DAYLIGHT
END:VTIMEZONE
BEGIN:VEVENT
UID:f7ac86f9-b67c-4821-98fd-3c818bfec5d8
DTSTAMP:20260421T160245Z
DESCRIPTION:Austin Hays (In-Person) \nLive music. A solo piano and voice se
 t.\nFree. 21 and over or accompanied by a parent or legal guardian.\n6:00 
 - 8:00 pm\nCreek Street Cabaret 247-5299
DTSTART;TZID=America/Anchorage:20200918T180000
DTEND;TZID=America/Anchorage:20200918T200000
LOCATION:Creek Street Cabaret
SUMMARY:Austin Hayes
END:VEVENT
END:VCALENDAR
