BEGIN:VCALENDAR
VERSION:2.0
PRODID:-//www.ketchikanarts.org//NONSGML kigkonsult.se iCalcreator 2.30.10/
 /
CALSCALE:GREGORIAN
METHOD:PUBLISH
UID:23a278a4-4b67-4e3c-b5d4-f78bc4baa7d1
X-WR-CALDESC:Join the Tongass Historical Museum on Facebook for a discussio
 n with Chuck Slagle about Aviation in Southeast. This Museum Midday comple
 ments their exhibit
X-WR-RELCALID:2cedee9c6cc504efb1b123ddd2679703
X-WR-TIMEZONE:America/Anchorage
BEGIN:VTIMEZONE
TZID:America/Anchorage
BEGIN:STANDARD
TZNAME:AKST
DTSTART:20191103T020000
TZOFFSETFROM:-0800
TZOFFSETTO:-0900
RDATE:20201101T020000
RDATE:20211107T020000
END:STANDARD
BEGIN:DAYLIGHT
TZNAME:AKDT
DTSTART:20200308T020000
TZOFFSETFROM:-0900
TZOFFSETTO:-0800
RDATE:20210314T020000
RDATE:20220313T020000
END:DAYLIGHT
END:VTIMEZONE
BEGIN:VEVENT
UID:79bc6401-cf5f-4a75-96ba-31b40fa0fe8d
DTSTAMP:20260421T160602Z
DESCRIPTION:Join the Tongass Historical Museum on Facebook for a discussion
  with Chuck Slagle about Aviation in Southeast. This Museum Midday complem
 ents their exhibit
DTSTART;TZID=America/Anchorage:20200917T120000
DTEND;TZID=America/Anchorage:20200917T130000
LOCATION:https://www.facebook.com/events/313008696471341?acontext=%7B%22eve
 nt_action_history%22%3A[%7B%22mechanism%22%3A%22search_results%22%2C%22sur
 face%22%3A%22search%22%7D]%7D
SUMMARY:Aviation in Southeast with Chuck Slagle
END:VEVENT
END:VCALENDAR
