BEGIN:VCALENDAR
VERSION:2.0
PRODID:-//www.ketchikanarts.org//NONSGML kigkonsult.se iCalcreator 2.30.10/
 /
CALSCALE:GREGORIAN
METHOD:PUBLISH
UID:8e50c997-26f5-45e8-b3ca-0c24a5acd450
X-WR-CALDESC:Join artist Brittany Williams as she teaches a meditative Dot 
 Mandala Class. All supplies provided.\n$35
X-WR-RELCALID:5d77679fe7dd496fa368b7c2b0f103f4
X-WR-TIMEZONE:America/Anchorage
BEGIN:VTIMEZONE
TZID:America/Anchorage
BEGIN:STANDARD
TZNAME:AKST
DTSTART:20191103T020000
TZOFFSETFROM:-0800
TZOFFSETTO:-0900
RDATE:20201101T020000
RDATE:20211107T020000
END:STANDARD
BEGIN:DAYLIGHT
TZNAME:AKDT
DTSTART:20200308T020000
TZOFFSETFROM:-0900
TZOFFSETTO:-0800
RDATE:20210314T020000
RDATE:20220313T020000
END:DAYLIGHT
END:VTIMEZONE
BEGIN:VEVENT
UID:e7774519-7081-47f1-9c6a-67bc3f484a65
DTSTAMP:20260421T160246Z
DESCRIPTION:Join artist Brittany Williams as she teaches a meditative Dot M
 andala Class. All supplies provided.\n$35
DTSTART;TZID=America/Anchorage:20200916T173000
DTEND;TZID=America/Anchorage:20200916T193000
LOCATION:Vibrance - A Creative Space
SUMMARY:Dot Mandala with Brittany Williams
END:VEVENT
END:VCALENDAR
