BEGIN:VCALENDAR
VERSION:2.0
PRODID:-//www.ketchikanarts.org//NONSGML kigkonsult.se iCalcreator 2.30.10/
 /
CALSCALE:GREGORIAN
METHOD:PUBLISH
UID:fe1e8e95-d995-431e-8f6a-9626e5522ff5
X-WR-CALDESC:Live Music - “Roger That!'\n$5 cover at the door\, must be 21 
 years of age or accompanied by a parent or legal guardian.
X-WR-RELCALID:fff9f7b489970cbd0617a2266f4298c8
X-WR-TIMEZONE:America/Anchorage
BEGIN:VTIMEZONE
TZID:America/Anchorage
BEGIN:STANDARD
TZNAME:AKST
DTSTART:20191103T020000
TZOFFSETFROM:-0800
TZOFFSETTO:-0900
RDATE:20201101T020000
RDATE:20211107T020000
END:STANDARD
BEGIN:DAYLIGHT
TZNAME:AKDT
DTSTART:20200308T020000
TZOFFSETFROM:-0900
TZOFFSETTO:-0800
RDATE:20210314T020000
RDATE:20220313T020000
END:DAYLIGHT
END:VTIMEZONE
BEGIN:VEVENT
UID:c1173145-d097-4105-beaf-60df2c570bcf
DTSTAMP:20260421T160144Z
DESCRIPTION:Live Music - “Roger That!'\n$5 cover at the door\, must be 21 y
 ears of age or accompanied by a parent or legal guardian.
DTSTART;TZID=America/Anchorage:20200912T200000
DTEND;TZID=America/Anchorage:20200912T220000
LOCATION:Creek Street Cabaret
SUMMARY:Roger That
END:VEVENT
END:VCALENDAR
